BEGIN:VCALENDAR
VERSION:2.0
PRODID:-//Exceptional Kids PTO - ECPv6.15.19//NONSGML v1.0//EN
CALSCALE:GREGORIAN
METHOD:PUBLISH
X-WR-CALNAME:Exceptional Kids PTO
X-ORIGINAL-URL:https://l96.d88.myftpupload.com
X-WR-CALDESC:Events for Exceptional Kids PTO
REFRESH-INTERVAL;VALUE=DURATION:PT1H
X-Robots-Tag:noindex
X-PUBLISHED-TTL:PT1H
BEGIN:VTIMEZONE
TZID:America/Los_Angeles
BEGIN:DAYLIGHT
TZOFFSETFROM:-0800
TZOFFSETTO:-0700
TZNAME:PDT
DTSTART:20200308T100000
END:DAYLIGHT
BEGIN:STANDARD
TZOFFSETFROM:-0700
TZOFFSETTO:-0800
TZNAME:PST
DTSTART:20201101T090000
END:STANDARD
BEGIN:DAYLIGHT
TZOFFSETFROM:-0800
TZOFFSETTO:-0700
TZNAME:PDT
DTSTART:20210314T100000
END:DAYLIGHT
BEGIN:STANDARD
TZOFFSETFROM:-0700
TZOFFSETTO:-0800
TZNAME:PST
DTSTART:20211107T090000
END:STANDARD
BEGIN:DAYLIGHT
TZOFFSETFROM:-0800
TZOFFSETTO:-0700
TZNAME:PDT
DTSTART:20220313T100000
END:DAYLIGHT
BEGIN:STANDARD
TZOFFSETFROM:-0700
TZOFFSETTO:-0800
TZNAME:PST
DTSTART:20221106T090000
END:STANDARD
END:VTIMEZONE
BEGIN:VEVENT
DTSTART;TZID=America/Los_Angeles:20211112T173000
DTEND;TZID=America/Los_Angeles:20211112T183000
DTSTAMP:20260422T174344
CREATED:20211020T203247Z
LAST-MODIFIED:20211020T203247Z
UID:6025-1636738200-1636741800@l96.d88.myftpupload.com
SUMMARY:Turkey Trot Virtual Dance
DESCRIPTION:Come on in and enjoy the fun with DJ Lauren.
URL:https://l96.d88.myftpupload.com/event/turkey-trot-virtual-dance/
LOCATION:Virtual Event
CATEGORIES:Dance
END:VEVENT
BEGIN:VEVENT
DTSTART;TZID=America/Los_Angeles:20211102T100000
DTEND;TZID=America/Los_Angeles:20211102T103000
DTSTAMP:20260422T174344
CREATED:20211020T202935Z
LAST-MODIFIED:20211020T202935Z
UID:6019-1635847200-1635849000@l96.d88.myftpupload.com
SUMMARY:'Music to Remember' Sing-Along (November 2)
DESCRIPTION:EKO families have been invited to a “Music to Remember” Sing-along November 2 from 11:00 – 11:30 am with LA Opera Teaching Artist Nani Sinha.
URL:https://l96.d88.myftpupload.com/event/music-to-remember-sing-along-november-2/
LOCATION:Virtual Event
CATEGORIES:Other
END:VEVENT
BEGIN:VEVENT
DTSTART;TZID=America/Los_Angeles:20211029T170000
DTEND;TZID=America/Los_Angeles:20211029T201500
DTSTAMP:20260422T174344
CREATED:20210317T003458Z
LAST-MODIFIED:20220412T164231Z
UID:5884-1635526800-1635538500@l96.d88.myftpupload.com
SUMMARY:EKO Halloween Spooktacular Drive-In Movie Night
DESCRIPTION:Join us in the upper parking lot of American Martyrs Catholic Church in Manhattan Beach for a fun-filled drive in movie night screening of Disney’s Hocus Pocus. Gate opens at 6 pm\, Movie begins at 6:45 pm. Cost is only $20 per carload and includes popcorn\, water bottles and movie candy. American Martyrs Catholic Church 700 15th Street\, Upper Parking Lot of O’Donnell Hall. \nEveryone is invited to come in costume! We will have a socially distanced costume parade and prizes for best costumes in several different categories.  \nTickets must be reserved in advance\, no drive-up sales. \nDetails:\n\nDate: Friday\, October 29th 2021\nTime: Gate opens at 6 pm\, Movie begins at 6:45 pm\nCost: $20 and includes popcorn\, water bottles and candy.\nLocation: American Martyrs Catholic Church 700 15th Street\, Upper Parking Lot of O’Donnell Hall
URL:https://l96.d88.myftpupload.com/event/halloween-drive-in-movie-night/
LOCATION:American Martyrs Catholic Church\, 700 15th Street\, 700 15th St\, Manhattan Beach\, CA\, 90266\, United States
CATEGORIES:Movie
ATTACH;FMTTYPE=image/jpeg:https://l96.d88.myftpupload.com/wp-content/uploads/2021/03/EKO-Drive-In-Movie-Night-Hocus_Pocus.jpg
END:VEVENT
BEGIN:VEVENT
DTSTART;TZID=America/Los_Angeles:20210827T173000
DTEND;TZID=America/Los_Angeles:20210827T183000
DTSTAMP:20260422T174344
CREATED:20210709T042334Z
LAST-MODIFIED:20210709T042334Z
UID:5987-1630085400-1630089000@l96.d88.myftpupload.com
SUMMARY:Move to the Groove Virtual Dance with DJ Norma
DESCRIPTION:
URL:https://l96.d88.myftpupload.com/event/move-to-the-groove-virtual-dance-with-dj-norma/
LOCATION:Virtual Event
CATEGORIES:Dance
END:VEVENT
BEGIN:VEVENT
DTSTART;TZID=America/Los_Angeles:20210820T173000
DTEND;TZID=America/Los_Angeles:20210820T183000
DTSTAMP:20260422T174344
CREATED:20210709T042221Z
LAST-MODIFIED:20210709T042243Z
UID:5985-1629480600-1629484200@l96.d88.myftpupload.com
SUMMARY:Virtual Parent Forum featuring David Glass\, Certified Family Law Specialist\, PhD in Clinical Psychology.
DESCRIPTION:Virtual Parent Forum featuring David Glass\, Certified Family Law Specialist\, PhD in Clinical Psychology. Author: “Moving On: Redesigning your Emotional\, Financial and Social Life After Divorce.”  \nDavid will discuss Custody Litigation with Children with Disabilities.  It is already difficult to go to Court to fight for the custody of your children.  But when you add that your child has a mental or physical disability\, it becomes almost impossible to convince the Judge what is in your child’s best interest. 
URL:https://l96.d88.myftpupload.com/event/forum-glass/
LOCATION:Virtual Event
CATEGORIES:Parent Forum
END:VEVENT
BEGIN:VEVENT
DTSTART;TZID=America/Los_Angeles:20210813T173000
DTEND;TZID=America/Los_Angeles:20210918T183000
DTSTAMP:20260422T174344
CREATED:20210709T042032Z
LAST-MODIFIED:20210709T042032Z
UID:5983-1628875800-1631989800@l96.d88.myftpupload.com
SUMMARY:How About them Cowboys Virtual Dance with DJ Lauryn
DESCRIPTION:
URL:https://l96.d88.myftpupload.com/event/how-about-them-cowboys-virtual-dance-with-dj-lauryn/
LOCATION:Virtual Event
CATEGORIES:Dance
END:VEVENT
BEGIN:VEVENT
DTSTART;TZID=America/Los_Angeles:20210730T173000
DTEND;TZID=America/Los_Angeles:20210730T183000
DTSTAMP:20260422T174344
CREATED:20210527T005003Z
LAST-MODIFIED:20210527T005003Z
UID:5969-1627666200-1627669800@l96.d88.myftpupload.com
SUMMARY:Get Up and Dance Virtual Dance
DESCRIPTION:Get up and show us your moves with D.J. Norma’s high energy dance party.
URL:https://l96.d88.myftpupload.com/event/get-up-and-dance-virtual-dance/
LOCATION:Virtual Event
CATEGORIES:Dance
END:VEVENT
BEGIN:VEVENT
DTSTART;TZID=America/Los_Angeles:20210727T100000
DTEND;TZID=America/Los_Angeles:20210727T103000
DTSTAMP:20260422T174344
CREATED:20210527T005246Z
LAST-MODIFIED:20210527T005246Z
UID:5978-1627380000-1627381800@l96.d88.myftpupload.com
SUMMARY:'Music to Remember' Sing-Along (July 27)
DESCRIPTION:EKO families have been invited to a “Music to Remember” Sing-along every Tuesday in July from 11:00 – 11:30 am with LA Opera Teaching Artist Nani Sinha.
URL:https://l96.d88.myftpupload.com/event/music-to-remember-sing-along-july-27/
LOCATION:Virtual Event
CATEGORIES:Other
END:VEVENT
BEGIN:VEVENT
DTSTART;TZID=America/Los_Angeles:20210720T100000
DTEND;TZID=America/Los_Angeles:20210720T103000
DTSTAMP:20260422T174344
CREATED:20210527T005214Z
LAST-MODIFIED:20210527T005214Z
UID:5976-1626775200-1626777000@l96.d88.myftpupload.com
SUMMARY:'Music to Remember' Sing-Along (July 20)
DESCRIPTION:EKO families have been invited to a “Music to Remember” Sing-along every Tuesday in July from 11:00 – 11:30 am with LA Opera Teaching Artist Nani Sinha.
URL:https://l96.d88.myftpupload.com/event/music-to-remember-sing-along-july-20/
LOCATION:Virtual Event
CATEGORIES:Other
END:VEVENT
BEGIN:VEVENT
DTSTART;TZID=America/Los_Angeles:20210716T173000
DTEND;TZID=America/Los_Angeles:20210716T190000
DTSTAMP:20260422T174344
CREATED:20210709T041935Z
LAST-MODIFIED:20210709T042134Z
UID:5980-1626456600-1626462000@l96.d88.myftpupload.com
SUMMARY:Virtual Parent Forum featuring Megan Mendes\, HCBS
DESCRIPTION:Megan will touch on Self Determination and discuss how the upcoming HCBS law will affect your young adults’ programs\, housing\, etc. \nFeaturing Megan Mendes\, HCBS Transition and Employment Manager Westside Regional Center.
URL:https://l96.d88.myftpupload.com/event/virtual-parent-forum-featuring-megan-mendes-hcbs/
LOCATION:Virtual Event
CATEGORIES:Parent Forum
END:VEVENT
BEGIN:VEVENT
DTSTART;TZID=America/Los_Angeles:20210713T100000
DTEND;TZID=America/Los_Angeles:20210713T103000
DTSTAMP:20260422T174344
CREATED:20210527T005130Z
LAST-MODIFIED:20210527T005139Z
UID:5973-1626170400-1626172200@l96.d88.myftpupload.com
SUMMARY:'Music to Remember' Sing-Along (July 13)
DESCRIPTION:EKO families have been invited to a “Music to Remember” Sing-along every Tuesday in July from 11:00 – 11:30 am with LA Opera Teaching Artist Nani Sinha.
URL:https://l96.d88.myftpupload.com/event/music-to-remember-sing-along-july-13/
LOCATION:Virtual Event
CATEGORIES:Other
END:VEVENT
BEGIN:VEVENT
DTSTART;TZID=America/Los_Angeles:20210709T173000
DTEND;TZID=America/Los_Angeles:20210709T183000
DTSTAMP:20260422T174344
CREATED:20210527T004922Z
LAST-MODIFIED:20210709T041757Z
UID:5966-1625851800-1625855400@l96.d88.myftpupload.com
SUMMARY:Yankee Doodle Dandy Virtual Dance
DESCRIPTION:Wear your best patriotic attire and celebrate Independence Day all over again with D.J. Lauryn.
URL:https://l96.d88.myftpupload.com/event/grand-old-flag-virtual-dance/
LOCATION:Virtual Event
CATEGORIES:Dance
END:VEVENT
BEGIN:VEVENT
DTSTART;TZID=America/Los_Angeles:20210706T100000
DTEND;TZID=America/Los_Angeles:20210706T103000
DTSTAMP:20260422T174344
CREATED:20210527T005057Z
LAST-MODIFIED:20210527T005057Z
UID:5971-1625565600-1625567400@l96.d88.myftpupload.com
SUMMARY:'Music to Remember' Sing-Along (July 6)
DESCRIPTION:EKO families have been invited to a “Music to Remember” Sing-along every Tuesday in July from 11:00 – 11:30 am with LA Opera Teaching Artist Nani Sinha.
URL:https://l96.d88.myftpupload.com/event/music-to-remember-sing-along-july-6/
LOCATION:Virtual Event
CATEGORIES:Other
END:VEVENT
BEGIN:VEVENT
DTSTART;TZID=America/Los_Angeles:20210629T100000
DTEND;TZID=America/Los_Angeles:20210629T103000
DTSTAMP:20260422T174344
CREATED:20210509T200319Z
LAST-MODIFIED:20210509T200356Z
UID:5959-1624960800-1624962600@l96.d88.myftpupload.com
SUMMARY:'Music to Remember' Sing-Along (June 29)
DESCRIPTION:EKO families have been invited to a “Music to Remember” Sing-along every Tuesday in June from 11:00 – 11:30 am with LA Opera Teaching Artist Nani Sinha.
URL:https://l96.d88.myftpupload.com/event/music-to-remember-sing-along-june-29/
LOCATION:Virtual Event
CATEGORIES:Other
END:VEVENT
BEGIN:VEVENT
DTSTART;TZID=America/Los_Angeles:20210622T100000
DTEND;TZID=America/Los_Angeles:20210622T103000
DTSTAMP:20260422T174344
CREATED:20210509T200235Z
LAST-MODIFIED:20210509T200341Z
UID:5957-1624356000-1624357800@l96.d88.myftpupload.com
SUMMARY:'Music to Remember' Sing-Along (June 22)
DESCRIPTION:EKO families have been invited to a “Music to Remember” Sing-along every Tuesday in June from 11:00 – 11:30 am with LA Opera Teaching Artist Nani Sinha.
URL:https://l96.d88.myftpupload.com/event/music-to-remember-sing-along-june-22/
LOCATION:Virtual Event
CATEGORIES:Other
END:VEVENT
BEGIN:VEVENT
DTSTART;TZID=America/Los_Angeles:20210618T173000
DTEND;TZID=America/Los_Angeles:20210618T190000
DTSTAMP:20260422T174344
CREATED:20210509T195844Z
LAST-MODIFIED:20210509T195844Z
UID:5947-1624037400-1624042800@l96.d88.myftpupload.com
SUMMARY:EKO Parent Forum\, Liz Spencer Westside Regional Center\, Regional Center Resources.
DESCRIPTION:
URL:https://l96.d88.myftpupload.com/event/eko-parent-forum-liz-spencer-westside-regional-center-regional-center-resources/
LOCATION:Virtual Event
CATEGORIES:Parent Forum
END:VEVENT
BEGIN:VEVENT
DTSTART;TZID=America/Los_Angeles:20210615T100000
DTEND;TZID=America/Los_Angeles:20210615T103000
DTSTAMP:20260422T174344
CREATED:20210509T200140Z
LAST-MODIFIED:20210509T200140Z
UID:5955-1623751200-1623753000@l96.d88.myftpupload.com
SUMMARY:'Music to Remember' Sing-Along (June 15)
DESCRIPTION:EKO families have been invited to a ‘Music to Remember’ Sing-Along every Tuesday in June from 11:00 – 11:30 am with LA Opera Teaching Artist Nani Sinha.
URL:https://l96.d88.myftpupload.com/event/music-to-remember-sing-along-june-15/
LOCATION:Virtual Event
CATEGORIES:Other
END:VEVENT
BEGIN:VEVENT
DTSTART;TZID=America/Los_Angeles:20210611T173000
DTEND;TZID=America/Los_Angeles:20210611T183000
DTSTAMP:20260422T174344
CREATED:20210509T195549Z
LAST-MODIFIED:20210527T004755Z
UID:5941-1623432600-1623436200@l96.d88.myftpupload.com
SUMMARY:Disney Virtual Prom
DESCRIPTION:Hosted by DJ Lauryn. Wear your favorite Disney attire and join us for a magical night of Disney music and dancing.
URL:https://l96.d88.myftpupload.com/event/virtual-prom/
LOCATION:Virtual Event
CATEGORIES:Dance
END:VEVENT
BEGIN:VEVENT
DTSTART;TZID=America/Los_Angeles:20210608T100000
DTEND;TZID=America/Los_Angeles:20210608T103000
DTSTAMP:20260422T174344
CREATED:20210509T200100Z
LAST-MODIFIED:20210509T200100Z
UID:5953-1623146400-1623148200@l96.d88.myftpupload.com
SUMMARY:'Music to Remember' Sing-Along (June 8)
DESCRIPTION:EKO families have been invited to a ‘Music to Remember’ Sing-Along every Tuesday in June from 11:00 – 11:30 am with LA Opera Teaching Artist Nani Sinha.
URL:https://l96.d88.myftpupload.com/event/music-to-remember-sing-along-june-8/
LOCATION:Virtual Event
CATEGORIES:Other
END:VEVENT
BEGIN:VEVENT
DTSTART;TZID=America/Los_Angeles:20210601T100000
DTEND;TZID=America/Los_Angeles:20210601T103000
DTSTAMP:20260422T174344
CREATED:20210509T195939Z
LAST-MODIFIED:20210509T200017Z
UID:5949-1622541600-1622543400@l96.d88.myftpupload.com
SUMMARY:'Music to Remember' Sing-Along (June 1)
DESCRIPTION:EKO families have been invited to a ‘Music to Remember’ Sing-Along every Tuesday in June from 11:00 – 11:30 am with LA Opera Teaching Artist Nani Sinha.
URL:https://l96.d88.myftpupload.com/event/music-to-remember-sing-along-june-1/
LOCATION:Virtual Event
CATEGORIES:Other
END:VEVENT
BEGIN:VEVENT
DTSTART;TZID=America/Los_Angeles:20210528T173000
DTEND;TZID=America/Los_Angeles:20210528T183000
DTSTAMP:20260422T174344
CREATED:20210509T195751Z
LAST-MODIFIED:20210527T004722Z
UID:5945-1622223000-1622226600@l96.d88.myftpupload.com
SUMMARY:Move and Groove to the Beats Dance
DESCRIPTION:Move and grove to the beat with D.J. Norma’s high energy dance party.
URL:https://l96.d88.myftpupload.com/event/move-and-groove-to-the-beats-dance/
LOCATION:Virtual Event
CATEGORIES:Dance
END:VEVENT
BEGIN:VEVENT
DTSTART;TZID=America/Los_Angeles:20210525T100000
DTEND;TZID=America/Los_Angeles:20210525T103000
DTSTAMP:20260422T174344
CREATED:20210509T193732Z
LAST-MODIFIED:20210509T193753Z
UID:5936-1621936800-1621938600@l96.d88.myftpupload.com
SUMMARY:'Music to Remember' Sing-Along (May 25)
DESCRIPTION:EKO families have been invited to a “Music to Remember” Sing-along every Tuesday in May from 11:00 – 11:30 am with LA Opera Teaching Artist Nani Sinha.
URL:https://l96.d88.myftpupload.com/event/music-to-remember-sing-along-may-25/
LOCATION:Virtual Event
CATEGORIES:Other
END:VEVENT
BEGIN:VEVENT
DTSTART;TZID=America/Los_Angeles:20210518T100000
DTEND;TZID=America/Los_Angeles:20210518T103000
DTSTAMP:20260422T174344
CREATED:20210509T193629Z
LAST-MODIFIED:20210509T193638Z
UID:5933-1621332000-1621333800@l96.d88.myftpupload.com
SUMMARY:'Music to Remember' Sing Along (May 18)
DESCRIPTION:EKO families have been invited to a “Music to Remember” Sing-along every Tuesday in May from 11:00 – 11:30 am with LA Opera Teaching Artist Nani Sinha.
URL:https://l96.d88.myftpupload.com/event/music-to-remeber-sing-along-may-18/
LOCATION:Virtual Event
CATEGORIES:Other
END:VEVENT
BEGIN:VEVENT
DTSTART;TZID=America/Los_Angeles:20210514T173000
DTEND;TZID=America/Los_Angeles:20210514T183000
DTSTAMP:20260422T174344
CREATED:20210509T195623Z
LAST-MODIFIED:20210509T195719Z
UID:5943-1621013400-1621017000@l96.d88.myftpupload.com
SUMMARY:May Flower Power Dance
DESCRIPTION:
URL:https://l96.d88.myftpupload.com/event/may-flower-power-dance/
LOCATION:Virtual Event
CATEGORIES:Dance
END:VEVENT
BEGIN:VEVENT
DTSTART;TZID=America/Los_Angeles:20210511T100000
DTEND;TZID=America/Los_Angeles:20210511T103000
DTSTAMP:20260422T174344
CREATED:20210509T193535Z
LAST-MODIFIED:20210509T193535Z
UID:5931-1620727200-1620729000@l96.d88.myftpupload.com
SUMMARY:‘Music to Remember’ Sing Along (May 11)
DESCRIPTION:EKO families have been invited to a “Music to Remember” Sing-along every Tuesday in May from 11:00 – 11:30 am with LA Opera Teaching Artist Nani Sinha.
URL:https://l96.d88.myftpupload.com/event/music-to-remember-sing-along-may-11/
LOCATION:Virtual Event
CATEGORIES:Other
END:VEVENT
BEGIN:VEVENT
DTSTART;TZID=America/Los_Angeles:20210504T100000
DTEND;TZID=America/Los_Angeles:20210504T103000
DTSTAMP:20260422T174344
CREATED:20210509T193841Z
LAST-MODIFIED:20210509T193913Z
UID:5939-1620122400-1620124200@l96.d88.myftpupload.com
SUMMARY:'Music to Remember' Sing-Along (May 4)
DESCRIPTION:EKO families have been invited to a “Music to Remember” Sing-along every Tuesday in May from 11:00 – 11:30 am with LA Opera Teaching Artist Nani Sinha.
URL:https://l96.d88.myftpupload.com/event/music-to-remember-sing-along-may-4/
LOCATION:Virtual Event
CATEGORIES:Other
END:VEVENT
BEGIN:VEVENT
DTSTART;TZID=America/Los_Angeles:20210430T173000
DTEND;TZID=America/Los_Angeles:20210430T183000
DTSTAMP:20260422T174344
CREATED:20210401T012958Z
LAST-MODIFIED:20210401T012958Z
UID:5910-1619803800-1619807400@l96.d88.myftpupload.com
SUMMARY:Let's Get Up And Move Dance
DESCRIPTION:featuring DJ Norma
URL:https://l96.d88.myftpupload.com/event/lets-get-up-and-move-dance/
LOCATION:Virtual Event
CATEGORIES:Dance
END:VEVENT
BEGIN:VEVENT
DTSTART;TZID=America/Los_Angeles:20210427T100000
DTEND;TZID=America/Los_Angeles:20210427T103000
DTSTAMP:20260422T174344
CREATED:20210401T013648Z
LAST-MODIFIED:20210401T013648Z
UID:5920-1619517600-1619519400@l96.d88.myftpupload.com
SUMMARY:‘Music to Remember’ Sing Along (Apr. 27)
DESCRIPTION:EKO families have been invited to a “Music to Remember” Sing-along every Tuesday in April from 11:00 – 11:30 am with LA Opera Teaching Artist Nani Sinha.
URL:https://l96.d88.myftpupload.com/event/music-to-remember-sing-along-apr-27/
LOCATION:Virtual Event
CATEGORIES:Other
END:VEVENT
BEGIN:VEVENT
DTSTART;TZID=America/Los_Angeles:20210420T100000
DTEND;TZID=America/Los_Angeles:20210420T103000
DTSTAMP:20260422T174344
CREATED:20210401T013515Z
LAST-MODIFIED:20210401T013531Z
UID:5917-1618912800-1618914600@l96.d88.myftpupload.com
SUMMARY:‘Music to Remember’ Sing Along (Apr. 20)
DESCRIPTION:EKO families have been invited to a “Music to Remember” Sing-along every Tuesday in April from 11:00 – 11:30 am with LA Opera Teaching Artist Nani Sinha.
URL:https://l96.d88.myftpupload.com/event/music-to-remember-sing-along-apr-20/
LOCATION:Virtual Event
CATEGORIES:Other
END:VEVENT
BEGIN:VEVENT
DTSTART;TZID=America/Los_Angeles:20210416T173000
DTEND;TZID=America/Los_Angeles:20210416T190000
DTSTAMP:20260422T174344
CREATED:20210401T012845Z
LAST-MODIFIED:20210401T013805Z
UID:5908-1618594200-1618599600@l96.d88.myftpupload.com
SUMMARY:Parent Forum: Special Education in a Pandemic; Laws and Rights
DESCRIPTION:presented by attorney Meldie M. Moore.
URL:https://l96.d88.myftpupload.com/event/special-education-in-a-pandemic-laws-and-rights/
LOCATION:Virtual Event
CATEGORIES:Parent Forum
END:VEVENT
END:VCALENDAR